BEGIN:VCALENDAR
VERSION:2.0
PRODID:-//Niles Canyon Railway - ECPv6.2.3.1//NONSGML v1.0//EN
CALSCALE:GREGORIAN
METHOD:PUBLISH
X-WR-CALNAME:Niles Canyon Railway
X-ORIGINAL-URL:https://www.ncry.org
X-WR-CALDESC:Events for Niles Canyon Railway
REFRESH-INTERVAL;VALUE=DURATION:PT1H
X-Robots-Tag:noindex
X-PUBLISHED-TTL:PT1H
BEGIN:VTIMEZONE
TZID:America/Los_Angeles
BEGIN:DAYLIGHT
TZOFFSETFROM:-0800
TZOFFSETTO:-0700
TZNAME:PDT
DTSTART:20220313T100000
END:DAYLIGHT
BEGIN:STANDARD
TZOFFSETFROM:-0700
TZOFFSETTO:-0800
TZNAME:PST
DTSTART:20221106T090000
END:STANDARD
END:VTIMEZONE
BEGIN:VEVENT
DTSTART;VALUE=DATE:20220710
DTEND;VALUE=DATE:20220711
DTSTAMP:20231012T104237
CREATED:20220214T051247Z
LAST-MODIFIED:20220629T014834Z
UID:3598-1657411200-1657497599@www.ncry.org
SUMMARY:Steam Train
DESCRIPTION:
URL:https://www.ncry.org/event/steam-train-2022-07-10/
LOCATION:Sunol Depot\, 6 Kilkare Road\, Sunol\, CA\, 94586\, United States
ATTACH;FMTTYPE=image/jpeg:https://www.ncry.org/wp-content/uploads/2020/08/NCRy_Skookum7_WestboundatFarwell_200216_CRH_1000px_wm.jpg
END:VEVENT
BEGIN:VEVENT
DTSTART;VALUE=DATE:20220710
DTEND;VALUE=DATE:20220711
DTSTAMP:20231012T104237
CREATED:20220603T030937Z
LAST-MODIFIED:20220603T031048Z
UID:3854-1657411200-1657497599@www.ncry.org
SUMMARY:M200 Railbus
DESCRIPTION:
URL:https://www.ncry.org/event/m200-railbus-2022-07-10/
LOCATION:Sunol Depot\, 6 Kilkare Road\, Sunol\, CA\, 94586\, United States
ATTACH;FMTTYPE=image/jpeg:https://www.ncry.org/wp-content/uploads/2022/05/NCRy_M200_EastofSunol_220515_CRHauf_05wm.jpg
END:VEVENT
END:VCALENDAR