BEGIN:VCALENDAR
VERSION:2.0
PRODID:-//Niles Canyon Railway - ECPv6.2.3.1//NONSGML v1.0//EN
CALSCALE:GREGORIAN
METHOD:PUBLISH
X-ORIGINAL-URL:https://www.ncry.org
X-WR-CALDESC:Events for Niles Canyon Railway
REFRESH-INTERVAL;VALUE=DURATION:PT1H
X-Robots-Tag:noindex
X-PUBLISHED-TTL:PT1H
BEGIN:VTIMEZONE
TZID:America/Los_Angeles
BEGIN:DAYLIGHT
TZOFFSETFROM:-0800
TZOFFSETTO:-0700
TZNAME:PDT
DTSTART:20220313T100000
END:DAYLIGHT
BEGIN:STANDARD
TZOFFSETFROM:-0700
TZOFFSETTO:-0800
TZNAME:PST
DTSTART:20221106T090000
END:STANDARD
END:VTIMEZONE
BEGIN:VEVENT
DTSTART;VALUE=DATE:20220731
DTEND;VALUE=DATE:20220801
DTSTAMP:20231012T084310
CREATED:20220603T030744Z
LAST-MODIFIED:20220603T030744Z
UID:3852-1659225600-1659311999@www.ncry.org
SUMMARY:M200 Railbus
DESCRIPTION:
URL:https://www.ncry.org/event/m200-railbus-2022-07-31/
LOCATION:Niles Depot\, 37029 Mission Blvd\, Fremont\, CA\, 94536\, United States
ATTACH;FMTTYPE=image/jpeg:https://www.ncry.org/wp-content/uploads/2022/05/NCRy_M200_EastofSunol_220515_CRHauf_05wm.jpg
END:VEVENT
END:VCALENDAR