BEGIN:VCALENDAR
VERSION:2.0
PRODID:-//Niles Canyon Railway - ECPv6.2.3.1//NONSGML v1.0//EN
CALSCALE:GREGORIAN
METHOD:PUBLISH
X-WR-CALNAME:Niles Canyon Railway
X-ORIGINAL-URL:https://www.ncry.org
X-WR-CALDESC:Events for Niles Canyon Railway
REFRESH-INTERVAL;VALUE=DURATION:PT1H
X-Robots-Tag:noindex
X-PUBLISHED-TTL:PT1H
BEGIN:VTIMEZONE
TZID:America/Los_Angeles
BEGIN:DAYLIGHT
TZOFFSETFROM:-0800
TZOFFSETTO:-0700
TZNAME:PDT
DTSTART:20230312T100000
END:DAYLIGHT
BEGIN:STANDARD
TZOFFSETFROM:-0700
TZOFFSETTO:-0800
TZNAME:PST
DTSTART:20231105T090000
END:STANDARD
END:VTIMEZONE
BEGIN:VEVENT
DTSTART;VALUE=DATE:20230819
DTEND;VALUE=DATE:20230820
DTSTAMP:20231011T192939
CREATED:20230409T143005Z
LAST-MODIFIED:20230409T143005Z
UID:4876-1692403200-1692489599@www.ncry.org
SUMMARY:Diesel Train
DESCRIPTION:
URL:https://www.ncry.org/event/diesel-train-2023-08-19/
LOCATION:Sunol Depot\, 6 Kilkare Road\, Sunol\, CA\, 94586\, United States
ATTACH;FMTTYPE=image/jpeg:https://www.ncry.org/wp-content/uploads/2021/06/NCRy_SP1423OutofBrightside_210417_CRH_1000px_wm.jpg
END:VEVENT
BEGIN:VEVENT
DTSTART;TZID=America/Los_Angeles:20230819T190000
DTEND;TZID=America/Los_Angeles:20230819T210000
DTSTAMP:20231011T192939
CREATED:20230505T210242Z
LAST-MODIFIED:20230505T210242Z
UID:4956-1692471600-1692478800@www.ncry.org
SUMMARY:Hot August Nights on the Rails
DESCRIPTION:
URL:https://www.ncry.org/event/hot-august-nights-on-the-rails-2023-08-19/
LOCATION:Sunol Depot\, 6 Kilkare Road\, Sunol\, CA\, 94586\, United States
ATTACH;FMTTYPE=image/jpeg:https://www.ncry.org/wp-content/uploads/2021/06/DSC6360_DxOv.jpg
END:VEVENT
END:VCALENDAR