BEGIN:VCALENDAR
VERSION:2.0
PRODID:-//Niles Canyon Railway - ECPv6.2.3.1//NONSGML v1.0//EN
CALSCALE:GREGORIAN
METHOD:PUBLISH
X-WR-CALNAME:Niles Canyon Railway
X-ORIGINAL-URL:https://www.ncry.org
X-WR-CALDESC:Events for Niles Canyon Railway
REFRESH-INTERVAL;VALUE=DURATION:PT1H
X-Robots-Tag:noindex
X-PUBLISHED-TTL:PT1H
BEGIN:VTIMEZONE
TZID:America/Los_Angeles
BEGIN:DAYLIGHT
TZOFFSETFROM:-0800
TZOFFSETTO:-0700
TZNAME:PDT
DTSTART:20230312T100000
END:DAYLIGHT
BEGIN:STANDARD
TZOFFSETFROM:-0700
TZOFFSETTO:-0800
TZNAME:PST
DTSTART:20231105T090000
END:STANDARD
END:VTIMEZONE
BEGIN:VEVENT
DTSTART;VALUE=DATE:20231001
DTEND;VALUE=DATE:20231002
DTSTAMP:20231011T175703
CREATED:20230617T225609Z
LAST-MODIFIED:20230617T225734Z
UID:5055-1696118400-1696204799@www.ncry.org
SUMMARY:Steam Train\, Bronco Billy Days
DESCRIPTION:
URL:https://www.ncry.org/event/steam-train-bronco-billy-days-2023-10-01/
LOCATION:Niles Depot\, 37029 Mission Blvd\, Fremont\, CA\, 94536\, United States
ATTACH;FMTTYPE=image/jpeg:https://www.ncry.org/wp-content/uploads/2021/09/NCRy_Skookum_RosterAtSunol_210403_CRH_1200px_wm.jpg
END:VEVENT
END:VCALENDAR