BEGIN:VCALENDAR
VERSION:2.0
PRODID:-//Niles Canyon Railway - ECPv6.2.3.1//NONSGML v1.0//EN
CALSCALE:GREGORIAN
METHOD:PUBLISH
X-WR-CALNAME:Niles Canyon Railway
X-ORIGINAL-URL:https://www.ncry.org
X-WR-CALDESC:Events for Niles Canyon Railway
REFRESH-INTERVAL;VALUE=DURATION:PT1H
X-Robots-Tag:noindex
X-PUBLISHED-TTL:PT1H
BEGIN:VTIMEZONE
TZID:America/Los_Angeles
BEGIN:DAYLIGHT
TZOFFSETFROM:-0800
TZOFFSETTO:-0700
TZNAME:PDT
DTSTART:20230312T100000
END:DAYLIGHT
BEGIN:STANDARD
TZOFFSETFROM:-0700
TZOFFSETTO:-0800
TZNAME:PST
DTSTART:20231105T090000
END:STANDARD
END:VTIMEZONE
BEGIN:VEVENT
DTSTART;VALUE=DATE:20231208
DTEND;VALUE=DATE:20231209
DTSTAMP:20231012T024145
CREATED:20230807T025237Z
LAST-MODIFIED:20230807T025237Z
UID:5142-1701993600-1702079999@www.ncry.org
SUMMARY:Train of Lights
DESCRIPTION:
URL:https://www.ncry.org/event/train-of-lights-2023-12-8/
LOCATION:Sunol and Niles
ATTACH;FMTTYPE=image/jpeg:https://www.ncry.org/wp-content/uploads/2021/09/TOL3.jpg
END:VEVENT
BEGIN:VEVENT
DTSTART;VALUE=DATE:20231209
DTEND;VALUE=DATE:20231210
DTSTAMP:20231012T024145
CREATED:20230807T025411Z
LAST-MODIFIED:20230807T025411Z
UID:5144-1702080000-1702166399@www.ncry.org
SUMMARY:Train of Lights
DESCRIPTION:
URL:https://www.ncry.org/event/train-of-lights-2023-12-9/
LOCATION:Sunol and Niles
ATTACH;FMTTYPE=image/jpeg:https://www.ncry.org/wp-content/uploads/2021/09/TOL3.jpg
END:VEVENT
BEGIN:VEVENT
DTSTART;VALUE=DATE:20231210
DTEND;VALUE=DATE:20231211
DTSTAMP:20231012T024145
CREATED:20230807T025510Z
LAST-MODIFIED:20230807T025510Z
UID:5146-1702166400-1702252799@www.ncry.org
SUMMARY:Train of Lights
DESCRIPTION:
URL:https://www.ncry.org/event/train-of-lights-2023-12-10/
LOCATION:Sunol and Niles
ATTACH;FMTTYPE=image/jpeg:https://www.ncry.org/wp-content/uploads/2021/09/TOL3.jpg
END:VEVENT
BEGIN:VEVENT
DTSTART;VALUE=DATE:20231212
DTEND;VALUE=DATE:20231213
DTSTAMP:20231012T024145
CREATED:20230807T025756Z
LAST-MODIFIED:20230807T025756Z
UID:5148-1702339200-1702425599@www.ncry.org
SUMMARY:Train of Lights
DESCRIPTION:
URL:https://www.ncry.org/event/train-of-lights-2023-12-12/
LOCATION:Niles Depot\, 37029 Mission Blvd\, Fremont\, CA\, 94536\, United States
ATTACH;FMTTYPE=image/jpeg:https://www.ncry.org/wp-content/uploads/2021/09/TOL3.jpg
END:VEVENT
BEGIN:VEVENT
DTSTART;VALUE=DATE:20231213
DTEND;VALUE=DATE:20231214
DTSTAMP:20231012T024145
CREATED:20230807T025903Z
LAST-MODIFIED:20230807T030628Z
UID:5150-1702425600-1702511999@www.ncry.org
SUMMARY:Train of Lights
DESCRIPTION:
URL:https://www.ncry.org/event/train-of-lights-2023-12-13/
LOCATION:Sunol and Niles
ATTACH;FMTTYPE=image/jpeg:https://www.ncry.org/wp-content/uploads/2021/09/TOL3.jpg
END:VEVENT
BEGIN:VEVENT
DTSTART;VALUE=DATE:20231215
DTEND;VALUE=DATE:20231216
DTSTAMP:20231012T024145
CREATED:20230807T030055Z
LAST-MODIFIED:20230807T030551Z
UID:5152-1702598400-1702684799@www.ncry.org
SUMMARY:Train of Lights
DESCRIPTION:
URL:https://www.ncry.org/event/train-of-lights-2023-12-15/
LOCATION:Sunol and Niles
ATTACH;FMTTYPE=image/jpeg:https://www.ncry.org/wp-content/uploads/2021/09/TOL3.jpg
END:VEVENT
BEGIN:VEVENT
DTSTART;VALUE=DATE:20231216
DTEND;VALUE=DATE:20231217
DTSTAMP:20231012T024145
CREATED:20230807T030153Z
LAST-MODIFIED:20230807T030519Z
UID:5154-1702684800-1702771199@www.ncry.org
SUMMARY:Train of Lights
DESCRIPTION:
URL:https://www.ncry.org/event/train-of-lights-2023-12-16/
LOCATION:Sunol and Niles
ATTACH;FMTTYPE=image/jpeg:https://www.ncry.org/wp-content/uploads/2021/09/TOL3.jpg
END:VEVENT
BEGIN:VEVENT
DTSTART;VALUE=DATE:20231217
DTEND;VALUE=DATE:20231218
DTSTAMP:20231012T024145
CREATED:20230807T030301Z
LAST-MODIFIED:20230807T030448Z
UID:5156-1702771200-1702857599@www.ncry.org
SUMMARY:Train of Lights
DESCRIPTION:
URL:https://www.ncry.org/event/train-of-lights-2023-12-17/
LOCATION:Sunol and Niles
ATTACH;FMTTYPE=image/jpeg:https://www.ncry.org/wp-content/uploads/2021/09/TOL3.jpg
END:VEVENT
BEGIN:VEVENT
DTSTART;VALUE=DATE:20231218
DTEND;VALUE=DATE:20231219
DTSTAMP:20231012T024145
CREATED:20230807T030410Z
LAST-MODIFIED:20230807T030410Z
UID:5158-1702857600-1702943999@www.ncry.org
SUMMARY:Train of Lights
DESCRIPTION:
URL:https://www.ncry.org/event/train-of-lights-2023-12-18/
LOCATION:Sunol and Niles
ATTACH;FMTTYPE=image/jpeg:https://www.ncry.org/wp-content/uploads/2021/09/TOL3.jpg
END:VEVENT
BEGIN:VEVENT
DTSTART;VALUE=DATE:20231220
DTEND;VALUE=DATE:20231221
DTSTAMP:20231012T024145
CREATED:20230807T030803Z
LAST-MODIFIED:20230807T030803Z
UID:5160-1703030400-1703116799@www.ncry.org
SUMMARY:Train of Lights
DESCRIPTION:
URL:https://www.ncry.org/event/train-of-lights-2023-12-20/
LOCATION:Sunol and Niles
ATTACH;FMTTYPE=image/jpeg:https://www.ncry.org/wp-content/uploads/2021/09/TOL3.jpg
END:VEVENT
BEGIN:VEVENT
DTSTART;VALUE=DATE:20231221
DTEND;VALUE=DATE:20231222
DTSTAMP:20231012T024145
CREATED:20230807T030901Z
LAST-MODIFIED:20230807T030901Z
UID:5162-1703116800-1703203199@www.ncry.org
SUMMARY:Train of Lights
DESCRIPTION:
URL:https://www.ncry.org/event/train-of-lights-2023-12-21/
LOCATION:Niles Depot\, 37029 Mission Blvd\, Fremont\, CA\, 94536\, United States
ATTACH;FMTTYPE=image/jpeg:https://www.ncry.org/wp-content/uploads/2021/09/TOL3.jpg
END:VEVENT
BEGIN:VEVENT
DTSTART;VALUE=DATE:20231222
DTEND;VALUE=DATE:20231223
DTSTAMP:20231012T024145
CREATED:20230807T031010Z
LAST-MODIFIED:20230807T031010Z
UID:5164-1703203200-1703289599@www.ncry.org
SUMMARY:Train of Lights
DESCRIPTION:
URL:https://www.ncry.org/event/train-of-lights-2023-12-22/
LOCATION:Sunol and Niles
ATTACH;FMTTYPE=image/jpeg:https://www.ncry.org/wp-content/uploads/2021/09/TOL3.jpg
END:VEVENT
BEGIN:VEVENT
DTSTART;VALUE=DATE:20231223
DTEND;VALUE=DATE:20231224
DTSTAMP:20231012T024145
CREATED:20230807T031127Z
LAST-MODIFIED:20230807T031127Z
UID:5166-1703289600-1703375999@www.ncry.org
SUMMARY:Train of Lights
DESCRIPTION:
URL:https://www.ncry.org/event/train-of-lights-2023-12-23/
LOCATION:Sunol and Niles
ATTACH;FMTTYPE=image/jpeg:https://www.ncry.org/wp-content/uploads/2021/09/TOL3.jpg
END:VEVENT
BEGIN:VEVENT
DTSTART;VALUE=DATE:20231227
DTEND;VALUE=DATE:20231228
DTSTAMP:20231012T024145
CREATED:20230807T031225Z
LAST-MODIFIED:20230807T031225Z
UID:5168-1703635200-1703721599@www.ncry.org
SUMMARY:Train of Lights
DESCRIPTION:
URL:https://www.ncry.org/event/train-of-lights-2023-12-27/
LOCATION:Sunol and Niles
ATTACH;FMTTYPE=image/jpeg:https://www.ncry.org/wp-content/uploads/2021/09/TOL3.jpg
END:VEVENT
BEGIN:VEVENT
DTSTART;VALUE=DATE:20231228
DTEND;VALUE=DATE:20231229
DTSTAMP:20231012T024145
CREATED:20230807T031308Z
LAST-MODIFIED:20230807T031308Z
UID:5170-1703721600-1703807999@www.ncry.org
SUMMARY:Train of Lights
DESCRIPTION:
URL:https://www.ncry.org/event/train-of-lights-2023-12-28/
LOCATION:Sunol and Niles
ATTACH;FMTTYPE=image/jpeg:https://www.ncry.org/wp-content/uploads/2021/09/TOL3.jpg
END:VEVENT
BEGIN:VEVENT
DTSTART;VALUE=DATE:20231229
DTEND;VALUE=DATE:20231230
DTSTAMP:20231012T024145
CREATED:20230807T031422Z
LAST-MODIFIED:20230807T031422Z
UID:5172-1703808000-1703894399@www.ncry.org
SUMMARY:Train of Lights
DESCRIPTION:
URL:https://www.ncry.org/event/train-of-lights-2023-12-29/
LOCATION:Sunol and Niles
ATTACH;FMTTYPE=image/jpeg:https://www.ncry.org/wp-content/uploads/2021/09/TOL3.jpg
END:VEVENT
END:VCALENDAR