BEGIN:VCALENDAR
VERSION:2.0
PRODID:-//Niles Canyon Railway - ECPv6.2.3.1//NONSGML v1.0//EN
CALSCALE:GREGORIAN
METHOD:PUBLISH
X-ORIGINAL-URL:https://www.ncry.org
X-WR-CALDESC:Events for Niles Canyon Railway
REFRESH-INTERVAL;VALUE=DURATION:PT1H
X-Robots-Tag:noindex
X-PUBLISHED-TTL:PT1H
BEGIN:VTIMEZONE
TZID:America/Los_Angeles
BEGIN:DAYLIGHT
TZOFFSETFROM:-0800
TZOFFSETTO:-0700
TZNAME:PDT
DTSTART:20220313T100000
END:DAYLIGHT
BEGIN:STANDARD
TZOFFSETFROM:-0700
TZOFFSETTO:-0800
TZNAME:PST
DTSTART:20221106T090000
END:STANDARD
END:VTIMEZONE
BEGIN:VEVENT
DTSTART;VALUE=DATE:20220611
DTEND;VALUE=DATE:20220612
DTSTAMP:20231012T104211
CREATED:20220214T050752Z
LAST-MODIFIED:20220214T051009Z
UID:3588-1654905600-1654991999@www.ncry.org
SUMMARY:Diesel Train
DESCRIPTION:
URL:https://www.ncry.org/event/diesel-train-2022-06-11/
LOCATION:Sunol Depot\, 6 Kilkare Road\, Sunol\, CA\, 94586\, United States
ATTACH;FMTTYPE=image/jpeg:https://www.ncry.org/wp-content/uploads/2021/06/NCRy_SP1423OutofBrightside_210417_CRH_1000px_wm.jpg
END:VEVENT
BEGIN:VEVENT
DTSTART;VALUE=DATE:20220612
DTEND;VALUE=DATE:20220613
DTSTAMP:20231012T104211
CREATED:20220214T050827Z
LAST-MODIFIED:20220214T051031Z
UID:3590-1654992000-1655078399@www.ncry.org
SUMMARY:Diesel Train
DESCRIPTION:
URL:https://www.ncry.org/event/diesel-train-2022-06-12/
LOCATION:Sunol Depot\, 6 Kilkare Road\, Sunol\, CA\, 94586\, United States
ATTACH;FMTTYPE=image/jpeg:https://www.ncry.org/wp-content/uploads/2021/06/NCRy_SP1423OutofBrightside_210417_CRH_1000px_wm.jpg
END:VEVENT
BEGIN:VEVENT
DTSTART;VALUE=DATE:20220618
DTEND;VALUE=DATE:20220619
DTSTAMP:20231012T104211
CREATED:20220214T050941Z
LAST-MODIFIED:20220214T050941Z
UID:3592-1655510400-1655596799@www.ncry.org
SUMMARY:Diesel Train
DESCRIPTION:
URL:https://www.ncry.org/event/diesel-train-2022-06-18/
LOCATION:Sunol Depot\, 6 Kilkare Road\, Sunol\, CA\, 94586\, United States
ATTACH;FMTTYPE=image/jpeg:https://www.ncry.org/wp-content/uploads/2021/06/NCRy_SP1423OutofBrightside_210417_CRH_1000px_wm.jpg
END:VEVENT
BEGIN:VEVENT
DTSTART;VALUE=DATE:20220619
DTEND;VALUE=DATE:20220620
DTSTAMP:20231012T104211
CREATED:20220214T051108Z
LAST-MODIFIED:20220214T051108Z
UID:3594-1655596800-1655683199@www.ncry.org
SUMMARY:Diesel Train
DESCRIPTION:
URL:https://www.ncry.org/event/diesel-train-2022-06-19/
LOCATION:Sunol Depot\, 6 Kilkare Road\, Sunol\, CA\, 94586\, United States
ATTACH;FMTTYPE=image/jpeg:https://www.ncry.org/wp-content/uploads/2021/06/NCRy_SP1423OutofBrightside_210417_CRH_1000px_wm.jpg
END:VEVENT
BEGIN:VEVENT
DTSTART;VALUE=DATE:20220626
DTEND;VALUE=DATE:20220627
DTSTAMP:20231012T104211
CREATED:20220603T025912Z
LAST-MODIFIED:20220603T025912Z
UID:3850-1656201600-1656287999@www.ncry.org
SUMMARY:M200 Railbus
DESCRIPTION:
URL:https://www.ncry.org/event/railbus-2022-06-22/
LOCATION:Niles Depot\, 37029 Mission Blvd\, Fremont\, CA\, 94536\, United States
ATTACH;FMTTYPE=image/jpeg:https://www.ncry.org/wp-content/uploads/2022/05/NCRy_M200_EastofSunol_220515_CRHauf_05wm.jpg
END:VEVENT
END:VCALENDAR