BEGIN:VCALENDAR
VERSION:2.0
PRODID:-//Niles Canyon Railway - ECPv6.2.3.1//NONSGML v1.0//EN
CALSCALE:GREGORIAN
METHOD:PUBLISH
X-WR-CALNAME:Niles Canyon Railway
X-ORIGINAL-URL:https://www.ncry.org
X-WR-CALDESC:Events for Niles Canyon Railway
REFRESH-INTERVAL;VALUE=DURATION:PT1H
X-Robots-Tag:noindex
X-PUBLISHED-TTL:PT1H
BEGIN:VTIMEZONE
TZID:America/Los_Angeles
BEGIN:DAYLIGHT
TZOFFSETFROM:-0800
TZOFFSETTO:-0700
TZNAME:PDT
DTSTART:20230312T100000
END:DAYLIGHT
BEGIN:STANDARD
TZOFFSETFROM:-0700
TZOFFSETTO:-0800
TZNAME:PST
DTSTART:20231105T090000
END:STANDARD
END:VTIMEZONE
BEGIN:VEVENT
DTSTART;VALUE=DATE:20230408
DTEND;VALUE=DATE:20230409
DTSTAMP:20231011T211849
CREATED:20230122T193927Z
LAST-MODIFIED:20230122T193927Z
UID:4574-1680912000-1680998399@www.ncry.org
SUMMARY:Diesel Train
DESCRIPTION:
URL:https://www.ncry.org/event/diesel-train-2023-04-08/
LOCATION:Sunol Depot\, 6 Kilkare Road\, Sunol\, CA\, 94586\, United States
ATTACH;FMTTYPE=image/jpeg:https://www.ncry.org/wp-content/uploads/2021/06/NCRy_SP1423OutofBrightside_210417_CRH_1000px_wm.jpg
END:VEVENT
BEGIN:VEVENT
DTSTART;VALUE=DATE:20230409
DTEND;VALUE=DATE:20230410
DTSTAMP:20231011T211849
CREATED:20230122T194311Z
LAST-MODIFIED:20230122T194311Z
UID:4582-1680998400-1681084799@www.ncry.org
SUMMARY:Steam Train
DESCRIPTION:
URL:https://www.ncry.org/event/steam-train-2023-04-09/
LOCATION:Sunol Depot\, 6 Kilkare Road\, Sunol\, CA\, 94586\, United States
ATTACH;FMTTYPE=image/jpeg:https://www.ncry.org/wp-content/uploads/2022/08/NCRy_CVLCo4_PanAlong84_CRH_1600px_wm.jpg
END:VEVENT
BEGIN:VEVENT
DTSTART;VALUE=DATE:20230415
DTEND;VALUE=DATE:20230416
DTSTAMP:20231011T211849
CREATED:20230122T194011Z
LAST-MODIFIED:20230122T194011Z
UID:4576-1681516800-1681603199@www.ncry.org
SUMMARY:Diesel Train
DESCRIPTION:
URL:https://www.ncry.org/event/diesel-train-2023-04-15/
LOCATION:Sunol Depot\, 6 Kilkare Road\, Sunol\, CA\, 94586\, United States
ATTACH;FMTTYPE=image/jpeg:https://www.ncry.org/wp-content/uploads/2021/06/NCRy_SP1423OutofBrightside_210417_CRH_1000px_wm.jpg
END:VEVENT
BEGIN:VEVENT
DTSTART;VALUE=DATE:20230416
DTEND;VALUE=DATE:20230417
DTSTAMP:20231011T211849
CREATED:20230122T194346Z
LAST-MODIFIED:20230122T194346Z
UID:4584-1681603200-1681689599@www.ncry.org
SUMMARY:Steam Train
DESCRIPTION:
URL:https://www.ncry.org/event/steam-train-2023-04-16/
LOCATION:Sunol Depot\, 6 Kilkare Road\, Sunol\, CA\, 94586\, United States
ATTACH;FMTTYPE=image/jpeg:https://www.ncry.org/wp-content/uploads/2022/08/NCRy_CVLCo4_PanAlong84_CRH_1600px_wm.jpg
END:VEVENT
BEGIN:VEVENT
DTSTART;VALUE=DATE:20230423
DTEND;VALUE=DATE:20230424
DTSTAMP:20231011T211849
CREATED:20230206T154331Z
LAST-MODIFIED:20230409T140804Z
UID:4609-1682208000-1682294399@www.ncry.org
SUMMARY:American Cancer Society Train
DESCRIPTION:
URL:https://www.ncry.org/event/american-cancer-society-train-2023-04-23/
LOCATION:Sunol Depot\, 6 Kilkare Road\, Sunol\, CA\, 94586\, United States
ATTACH;FMTTYPE=image/jpeg:https://www.ncry.org/wp-content/uploads/2019/02/relay-for-life-logo.jpg
END:VEVENT
END:VCALENDAR