BEGIN:VCALENDAR
VERSION:2.0
PRODID:-//Niles Canyon Railway - ECPv6.2.3.1//NONSGML v1.0//EN
CALSCALE:GREGORIAN
METHOD:PUBLISH
X-WR-CALNAME:Niles Canyon Railway
X-ORIGINAL-URL:https://www.ncry.org
X-WR-CALDESC:Events for Niles Canyon Railway
REFRESH-INTERVAL;VALUE=DURATION:PT1H
X-Robots-Tag:noindex
X-PUBLISHED-TTL:PT1H
BEGIN:VTIMEZONE
TZID:America/Los_Angeles
BEGIN:DAYLIGHT
TZOFFSETFROM:-0800
TZOFFSETTO:-0700
TZNAME:PDT
DTSTART:20230312T100000
END:DAYLIGHT
BEGIN:STANDARD
TZOFFSETFROM:-0700
TZOFFSETTO:-0800
TZNAME:PST
DTSTART:20231105T090000
END:STANDARD
END:VTIMEZONE
BEGIN:VEVENT
DTSTART;VALUE=DATE:20230812
DTEND;VALUE=DATE:20230813
DTSTAMP:20231011T190415
CREATED:20230409T142754Z
LAST-MODIFIED:20230409T142824Z
UID:4872-1691798400-1691884799@www.ncry.org
SUMMARY:Diesel Train
DESCRIPTION:
URL:https://www.ncry.org/event/diesel-train-2023-08-12/
LOCATION:Sunol Depot\, 6 Kilkare Road\, Sunol\, CA\, 94586\, United States
ATTACH;FMTTYPE=image/jpeg:https://www.ncry.org/wp-content/uploads/2021/06/NCRy_SP1423OutofBrightside_210417_CRH_1000px_wm.jpg
END:VEVENT
BEGIN:VEVENT
DTSTART;VALUE=DATE:20230813
DTEND;VALUE=DATE:20230814
DTSTAMP:20231011T190415
CREATED:20230409T142914Z
LAST-MODIFIED:20230409T142914Z
UID:4874-1691884800-1691971199@www.ncry.org
SUMMARY:Diesel Train
DESCRIPTION:
URL:https://www.ncry.org/event/diesel-train-2023-08-13/
LOCATION:Sunol Depot\, 6 Kilkare Road\, Sunol\, CA\, 94586\, United States
ATTACH;FMTTYPE=image/jpeg:https://www.ncry.org/wp-content/uploads/2021/06/NCRy_SP1423OutofBrightside_210417_CRH_1000px_wm.jpg
END:VEVENT
BEGIN:VEVENT
DTSTART;VALUE=DATE:20230819
DTEND;VALUE=DATE:20230820
DTSTAMP:20231011T190415
CREATED:20230409T143005Z
LAST-MODIFIED:20230409T143005Z
UID:4876-1692403200-1692489599@www.ncry.org
SUMMARY:Diesel Train
DESCRIPTION:
URL:https://www.ncry.org/event/diesel-train-2023-08-19/
LOCATION:Sunol Depot\, 6 Kilkare Road\, Sunol\, CA\, 94586\, United States
ATTACH;FMTTYPE=image/jpeg:https://www.ncry.org/wp-content/uploads/2021/06/NCRy_SP1423OutofBrightside_210417_CRH_1000px_wm.jpg
END:VEVENT
BEGIN:VEVENT
DTSTART;TZID=America/Los_Angeles:20230819T190000
DTEND;TZID=America/Los_Angeles:20230819T210000
DTSTAMP:20231011T190415
CREATED:20230505T210242Z
LAST-MODIFIED:20230505T210242Z
UID:4956-1692471600-1692478800@www.ncry.org
SUMMARY:Hot August Nights on the Rails
DESCRIPTION:
URL:https://www.ncry.org/event/hot-august-nights-on-the-rails-2023-08-19/
LOCATION:Sunol Depot\, 6 Kilkare Road\, Sunol\, CA\, 94586\, United States
ATTACH;FMTTYPE=image/jpeg:https://www.ncry.org/wp-content/uploads/2021/06/DSC6360_DxOv.jpg
END:VEVENT
BEGIN:VEVENT
DTSTART;VALUE=DATE:20230820
DTEND;VALUE=DATE:20230821
DTSTAMP:20231011T190415
CREATED:20230409T143055Z
LAST-MODIFIED:20230409T143055Z
UID:4878-1692489600-1692575999@www.ncry.org
SUMMARY:Diesel Train
DESCRIPTION:
URL:https://www.ncry.org/event/diesel-train-2023-08-20/
LOCATION:Sunol Depot\, 6 Kilkare Road\, Sunol\, CA\, 94586\, United States
ATTACH;FMTTYPE=image/jpeg:https://www.ncry.org/wp-content/uploads/2021/06/NCRy_SP1423OutofBrightside_210417_CRH_1000px_wm.jpg
END:VEVENT
BEGIN:VEVENT
DTSTART;TZID=America/Los_Angeles:20230827T130000
DTEND;TZID=America/Los_Angeles:20230827T150000
DTSTAMP:20231011T190415
CREATED:20230411T042554Z
LAST-MODIFIED:20230411T042554Z
UID:4903-1693141200-1693148400@www.ncry.org
SUMMARY:Beer On The Rails Train
DESCRIPTION:
URL:https://www.ncry.org/event/beer-on-the-rails-train-2023-08-27/
LOCATION:Sunol Depot\, 6 Kilkare Road\, Sunol\, CA\, 94586\, United States
ATTACH;FMTTYPE=image/jpeg:https://www.ncry.org/wp-content/uploads/2019/01/2016-06-03_dsarka_DSC3850_DxO.jpg
END:VEVENT
END:VCALENDAR