BEGIN:VCALENDAR
VERSION:2.0
PRODID:-//Niles Canyon Railway - ECPv6.2.3.1//NONSGML v1.0//EN
CALSCALE:GREGORIAN
METHOD:PUBLISH
X-WR-CALNAME:Niles Canyon Railway
X-ORIGINAL-URL:https://www.ncry.org
X-WR-CALDESC:Events for Niles Canyon Railway
REFRESH-INTERVAL;VALUE=DURATION:PT1H
X-Robots-Tag:noindex
X-PUBLISHED-TTL:PT1H
BEGIN:VTIMEZONE
TZID:America/Los_Angeles
BEGIN:DAYLIGHT
TZOFFSETFROM:-0800
TZOFFSETTO:-0700
TZNAME:PDT
DTSTART:20230312T100000
END:DAYLIGHT
BEGIN:STANDARD
TZOFFSETFROM:-0700
TZOFFSETTO:-0800
TZNAME:PST
DTSTART:20231105T090000
END:STANDARD
END:VTIMEZONE
BEGIN:VEVENT
DTSTART;VALUE=DATE:20231117
DTEND;VALUE=DATE:20231118
DTSTAMP:20231011T175807
CREATED:20230807T023146Z
LAST-MODIFIED:20230807T024111Z
UID:5120-1700179200-1700265599@www.ncry.org
SUMMARY:Train of Lights
DESCRIPTION:
URL:https://www.ncry.org/event/train-of-lights-2023-11-17/
LOCATION:Sunol and Niles
ATTACH;FMTTYPE=image/jpeg:https://www.ncry.org/wp-content/uploads/2021/09/TOL3.jpg
END:VEVENT
BEGIN:VEVENT
DTSTART;VALUE=DATE:20231118
DTEND;VALUE=DATE:20231119
DTSTAMP:20231011T175807
CREATED:20230807T023509Z
LAST-MODIFIED:20230807T024042Z
UID:5122-1700265600-1700351999@www.ncry.org
SUMMARY:Train of Lights
DESCRIPTION:
URL:https://www.ncry.org/event/train-of-lights-2023-11-18/
LOCATION:Sunol and Niles
ATTACH;FMTTYPE=image/jpeg:https://www.ncry.org/wp-content/uploads/2021/09/TOL3.jpg
END:VEVENT
BEGIN:VEVENT
DTSTART;VALUE=DATE:20231119
DTEND;VALUE=DATE:20231120
DTSTAMP:20231011T175807
CREATED:20230807T023756Z
LAST-MODIFIED:20230807T024009Z
UID:5124-1700352000-1700438399@www.ncry.org
SUMMARY:Train of Lights
DESCRIPTION:
URL:https://www.ncry.org/event/train-of-lights-2023-11-19/
LOCATION:Sunol and Niles
ATTACH;FMTTYPE=image/jpeg:https://www.ncry.org/wp-content/uploads/2021/09/TOL3.jpg
END:VEVENT
BEGIN:VEVENT
DTSTART;VALUE=DATE:20231125
DTEND;VALUE=DATE:20231126
DTSTAMP:20231011T175807
CREATED:20230807T023922Z
LAST-MODIFIED:20230807T023922Z
UID:5126-1700870400-1700956799@www.ncry.org
SUMMARY:Train of Lights
DESCRIPTION:
URL:https://www.ncry.org/event/train-of-lights-2023-11-25/
LOCATION:Sunol and Niles
ATTACH;FMTTYPE=image/jpeg:https://www.ncry.org/wp-content/uploads/2021/09/TOL3.jpg
END:VEVENT
BEGIN:VEVENT
DTSTART;VALUE=DATE:20231126
DTEND;VALUE=DATE:20231127
DTSTAMP:20231011T175807
CREATED:20230807T024226Z
LAST-MODIFIED:20230807T024226Z
UID:5128-1700956800-1701043199@www.ncry.org
SUMMARY:Train of Lights
DESCRIPTION:
URL:https://www.ncry.org/event/train-of-lights-2023-11-26/
LOCATION:Sunol and Niles
ATTACH;FMTTYPE=image/jpeg:https://www.ncry.org/wp-content/uploads/2021/09/TOL3.jpg
END:VEVENT
BEGIN:VEVENT
DTSTART;VALUE=DATE:20231129
DTEND;VALUE=DATE:20231130
DTSTAMP:20231011T175807
CREATED:20230807T024329Z
LAST-MODIFIED:20230807T024329Z
UID:5130-1701216000-1701302399@www.ncry.org
SUMMARY:Train of Lights
DESCRIPTION:
URL:https://www.ncry.org/event/train-of-lights-2023-11-29/
LOCATION:Sunol and Niles
ATTACH;FMTTYPE=image/jpeg:https://www.ncry.org/wp-content/uploads/2021/09/TOL3.jpg
END:VEVENT
END:VCALENDAR