BEGIN:VCALENDAR
VERSION:2.0
PRODID:-//Niles Canyon Railway - ECPv6.15.20//NONSGML v1.0//EN
CALSCALE:GREGORIAN
METHOD:PUBLISH
X-WR-CALNAME:Niles Canyon Railway
X-ORIGINAL-URL:https://www.ncry.org
X-WR-CALDESC:Events for Niles Canyon Railway
REFRESH-INTERVAL;VALUE=DURATION:PT1H
X-Robots-Tag:noindex
X-PUBLISHED-TTL:PT1H
BEGIN:VTIMEZONE
TZID:America/Los_Angeles
BEGIN:DAYLIGHT
TZOFFSETFROM:-0800
TZOFFSETTO:-0700
TZNAME:PDT
DTSTART:20230312T100000
END:DAYLIGHT
BEGIN:STANDARD
TZOFFSETFROM:-0700
TZOFFSETTO:-0800
TZNAME:PST
DTSTART:20231105T090000
END:STANDARD
BEGIN:DAYLIGHT
TZOFFSETFROM:-0800
TZOFFSETTO:-0700
TZNAME:PDT
DTSTART:20240310T100000
END:DAYLIGHT
BEGIN:STANDARD
TZOFFSETFROM:-0700
TZOFFSETTO:-0800
TZNAME:PST
DTSTART:20241103T090000
END:STANDARD
BEGIN:DAYLIGHT
TZOFFSETFROM:-0800
TZOFFSETTO:-0700
TZNAME:PDT
DTSTART:20250309T100000
END:DAYLIGHT
BEGIN:STANDARD
TZOFFSETFROM:-0700
TZOFFSETTO:-0800
TZNAME:PST
DTSTART:20251102T090000
END:STANDARD
END:VTIMEZONE
BEGIN:VEVENT
DTSTART;VALUE=DATE:20240901
DTEND;VALUE=DATE:20240902
DTSTAMP:20260420T053352
CREATED:20240221T054749Z
LAST-MODIFIED:20240221T054749Z
UID:5699-1725148800-1725235199@www.ncry.org
SUMMARY:Diesel Beer Train
DESCRIPTION:
URL:https://www.ncry.org/event/diesel-beer-train-2024-09-01/
LOCATION:Sunol Depot\, 6 Kilkare Road\, Sunol\, CA\, 94586\, United States
ATTACH;FMTTYPE=image/jpeg:https://www.ncry.org/wp-content/uploads/2019/01/2016-06-03_dsarka_DSC3850_DxO.jpg
END:VEVENT
BEGIN:VEVENT
DTSTART;VALUE=DATE:20240914
DTEND;VALUE=DATE:20240915
DTSTAMP:20260420T053352
CREATED:20240125T043907Z
LAST-MODIFIED:20240125T043907Z
UID:5627-1726272000-1726358399@www.ncry.org
SUMMARY:Diesel Train
DESCRIPTION:
URL:https://www.ncry.org/event/diesel-train-2024-09-14/
LOCATION:Sunol Depot\, 6 Kilkare Road\, Sunol\, CA\, 94586\, United States
ATTACH;FMTTYPE=image/jpeg:https://www.ncry.org/wp-content/uploads/2021/06/NCRy_SP1423OutofBrightside_210417_CRH_1000px_wm.jpg
END:VEVENT
BEGIN:VEVENT
DTSTART;VALUE=DATE:20240915
DTEND;VALUE=DATE:20240916
DTSTAMP:20260420T053352
CREATED:20240125T043945Z
LAST-MODIFIED:20240714T040108Z
UID:5629-1726358400-1726444799@www.ncry.org
SUMMARY:Steam Train
DESCRIPTION:
URL:https://www.ncry.org/event/steam-train-2024-09-15/
LOCATION:Sunol Depot\, 6 Kilkare Road\, Sunol\, CA\, 94586\, United States
ATTACH;FMTTYPE=image/jpeg:https://www.ncry.org/wp-content/uploads/2023/01/NCRy_RD3_Along84_Mustard_210313_CRH_1080px_wm_View2.jpg
END:VEVENT
BEGIN:VEVENT
DTSTART;VALUE=DATE:20240921
DTEND;VALUE=DATE:20240922
DTSTAMP:20260420T053352
CREATED:20240125T044045Z
LAST-MODIFIED:20240125T044045Z
UID:5631-1726876800-1726963199@www.ncry.org
SUMMARY:Diesel Train
DESCRIPTION:
URL:https://www.ncry.org/event/diesel-train-2024-09-21/
LOCATION:Sunol Depot\, 6 Kilkare Road\, Sunol\, CA\, 94586\, United States
ATTACH;FMTTYPE=image/jpeg:https://www.ncry.org/wp-content/uploads/2021/06/NCRy_SP1423OutofBrightside_210417_CRH_1000px_wm.jpg
END:VEVENT
BEGIN:VEVENT
DTSTART;VALUE=DATE:20240922
DTEND;VALUE=DATE:20240923
DTSTAMP:20260420T053352
CREATED:20240125T044130Z
LAST-MODIFIED:20240714T040211Z
UID:5633-1726963200-1727049599@www.ncry.org
SUMMARY:Steam Train
DESCRIPTION:
URL:https://www.ncry.org/event/steam-train-2024-09-22/
LOCATION:Sunol Depot\, 6 Kilkare Road\, Sunol\, CA\, 94586\, United States
ATTACH;FMTTYPE=image/jpeg:https://www.ncry.org/wp-content/uploads/2023/01/NCRy_RD3_Along84_Mustard_210313_CRH_1080px_wm_View2.jpg
END:VEVENT
END:VCALENDAR